BEGIN:VCALENDAR
VERSION:2.0
PRODID:-//The Club at Parkwood Village - ECPv4.8.1//NONSGML v1.0//EN
CALSCALE:GREGORIAN
METHOD:PUBLISH
X-WR-CALNAME:The Club at Parkwood Village
X-ORIGINAL-URL:https://www.theclubparkwood.com.au
X-WR-CALDESC:Events for The Club at Parkwood Village
BEGIN:VEVENT
DTSTART;TZID=Australia/Brisbane:20190225T173000
DTEND;TZID=Australia/Brisbane:20190225T203000
DTSTAMP:20190228T182651
CREATED:20190118T004619Z
LAST-MODIFIED:20190118T004619Z
UID:6092-1551115800-1551126600@www.theclubparkwood.com.au
SUMMARY:Parma'Cheddon Mondays
DESCRIPTION:Monday Nights its Parma’Cheddon\nDo you have what it takes to conquer the Giant Parmigiana? A whopping 500gm Parmigiana layered with thick Napoli sauce\, shredded ham and dripping with delicious cheese. Grilled to perfection then served atop a mountain of chips and with a side of salad. \nAll of this for only $19.90 on Monday nights!! Tackle it alone or share with a mate.\nBook your table in Village Lane Pizzeria\, Bar and Grill now. \nBook Now \n
URL:https://www.theclubparkwood.com.au/event/parmacheddon-mondays-2-9-4-7/
END:VEVENT
BEGIN:VEVENT
DTSTART;TZID=Australia/Brisbane:20190226T173000
DTEND;TZID=Australia/Brisbane:20190226T203000
DTSTAMP:20190228T182651
CREATED:20190208T034921Z
LAST-MODIFIED:20190208T034921Z
UID:6195-1551202200-1551213000@www.theclubparkwood.com.au
SUMMARY:Two for One Tuesdays
DESCRIPTION:Tuesday night is a Pizza lovers haven\nFrom 5:30 on a Tuesday night\, you can purchase any 1 of our delicious Wood Fire Pizzas and get another of equal or lesser value ABSOLUTELY FREE!!! \nChoose a favourite or try something new. There is something to tempt all tastebuds.\nBook your table in Village Lane Pizzeria\, Bar and Grill now. \nBook Now \n
URL:https://www.theclubparkwood.com.au/event/two-for-one-tuesdays-4-2-4-6-2/
END:VEVENT
BEGIN:VEVENT
DTSTART;TZID=Australia/Brisbane:20190227T173000
DTEND;TZID=Australia/Brisbane:20190227T203000
DTSTAMP:20190228T182651
CREATED:20190208T041107Z
LAST-MODIFIED:20190208T041107Z
UID:6205-1551288600-1551299400@www.theclubparkwood.com.au
SUMMARY:Half Price Parmi Night
DESCRIPTION:Wednesday’s its a Parmigiana lovers Haven\nEvery Wednesday night from 5:30pm\, join us at the Village Lane Pizzeria\, Bar & Grill and take your pick of our delicious variety of parmigiana options\, and pay 1/2 Price. \nTHAT’S RIGHT\, HALF PRICE!!!\nChoose from a Traditional Parmigiana\, or try one of our specialty varieties\, served with a side of chips and house salad. \nSpecialty Varieties include: \n\nHawaiian\nMacaroni & Cheese or\nAussie\n\nBook your table by calling 07 5563 3342 or online\nBook Now \n
URL:https://www.theclubparkwood.com.au/event/half-price-parmi-night-3-3-2-3-5/
END:VEVENT
BEGIN:VEVENT
DTSTART;TZID=Australia/Brisbane:20190228T173000
DTEND;TZID=Australia/Brisbane:20190228T203000
DTSTAMP:20190228T182651
CREATED:20190208T044342Z
LAST-MODIFIED:20190208T044342Z
UID:6227-1551375000-1551385800@www.theclubparkwood.com.au
SUMMARY:Thursday Steak Night
DESCRIPTION:Thursday Nights is for the Carnivore in you.\nCome down on Thursday nights and enjoy a delicious\, mouth-watering Rump Steak cooked to perfection. Served with a side of crunchy chips and a salad all for only $14!! \nYou read that right\, only $14 for a steak\, chips and salad!!!\nWant to add a delicious sauce to smother your steak in? Choose from a wide range of sauces to add for only $2 each. \nBook your table now by calling 07 5563 3342 or online at \nBook Now \n
URL:https://www.theclubparkwood.com.au/event/thursday-steak-night-8-4-4/
END:VEVENT
BEGIN:VEVENT
DTSTART;TZID=Australia/Brisbane:20190301T173000
DTEND;TZID=Australia/Brisbane:20190301T203000
DTSTAMP:20190228T182651
CREATED:20190208T051943Z
LAST-MODIFIED:20190208T051943Z
UID:6243-1551461400-1551472200@www.theclubparkwood.com.au
SUMMARY:Family Fridays
DESCRIPTION:Start your weekend right with Kids Eat Free on a Friday night.\nJoin us for a family night out\, while you sit back and relax – enjoy any one of our amazing adult meals and get your kids meal absolutely FREE. \nWe also have live entertainment from 5pm and our Kids Village is open and supervised for only $5p/h per child. \nCall now to book your table 07 5563 3342 or follow the link \nBook Now \n
URL:https://www.theclubparkwood.com.au/event/family-fridays-5-4-4-3-3/
END:VEVENT
BEGIN:VEVENT
DTSTART;TZID=Australia/Brisbane:20190303T130000
DTEND;TZID=Australia/Brisbane:20190303T170000
DTSTAMP:20190228T182651
CREATED:20190114T035106Z
LAST-MODIFIED:20190114T035106Z
UID:6069-1551618000-1551632400@www.theclubparkwood.com.au
SUMMARY:Sunday Sounds
DESCRIPTION:Live Music every Sunday in Village Lane 1pm-5pm\nPerforming this week\, Adam Brown \n
URL:https://www.theclubparkwood.com.au/event/sunday-sounds-3-2/
END:VEVENT
BEGIN:VEVENT
DTSTART;TZID=Australia/Brisbane:20190304T173000
DTEND;TZID=Australia/Brisbane:20190304T203000
DTSTAMP:20190228T182651
CREATED:20190118T004813Z
LAST-MODIFIED:20190118T004813Z
UID:6093-1551720600-1551731400@www.theclubparkwood.com.au
SUMMARY:Parma'Cheddon Mondays
DESCRIPTION:Monday Nights its Parma’Cheddon\nDo you have what it takes to conquer the Giant Parmigiana? A whopping 500gm Parmigiana layered with thick Napoli sauce\, shredded ham and dripping with delicious cheese. Grilled to perfection then served atop a mountain of chips and with a side of salad. \nAll of this for only $19.90 on Monday nights!! Tackle it alone or share with a mate.\nBook your table in Village Lane Pizzeria\, Bar and Grill now. \nBook Now \n
URL:https://www.theclubparkwood.com.au/event/parmacheddon-mondays-2-9-4-8/
END:VEVENT
BEGIN:VEVENT
DTSTART;TZID=Australia/Brisbane:20190305T173000
DTEND;TZID=Australia/Brisbane:20190305T203000
DTSTAMP:20190228T182651
CREATED:20190208T035034Z
LAST-MODIFIED:20190208T035034Z
UID:6196-1551807000-1551817800@www.theclubparkwood.com.au
SUMMARY:Two for One Tuesdays
DESCRIPTION:Tuesday night is a Pizza lovers haven\nFrom 5:30 on a Tuesday night\, you can purchase any 1 of our delicious Wood Fire Pizzas and get another of equal or lesser value ABSOLUTELY FREE!!! \nChoose a favourite or try something new. There is something to tempt all tastebuds.\nBook your table in Village Lane Pizzeria\, Bar and Grill now. \nBook Now \n
URL:https://www.theclubparkwood.com.au/event/two-for-one-tuesdays-4-2-4-6-3/
END:VEVENT
BEGIN:VEVENT
DTSTART;TZID=Australia/Brisbane:20190306T173000
DTEND;TZID=Australia/Brisbane:20190306T203000
DTSTAMP:20190228T182651
CREATED:20190208T041204Z
LAST-MODIFIED:20190208T041204Z
UID:6209-1551893400-1551904200@www.theclubparkwood.com.au
SUMMARY:Half Price Parmi Night
DESCRIPTION:Wednesday’s its a Parmigiana lovers Haven\nEvery Wednesday night from 5:30pm\, join us at the Village Lane Pizzeria\, Bar & Grill and take your pick of our delicious variety of parmigiana options\, and pay 1/2 Price. \nTHAT’S RIGHT\, HALF PRICE!!!\nChoose from a Traditional Parmigiana\, or try one of our specialty varieties\, served with a side of chips and house salad. \nSpecialty Varieties include: \n\nHawaiian\nMacaroni & Cheese or\nAussie\n\nBook your table by calling 07 5563 3342 or online\nBook Now \n
URL:https://www.theclubparkwood.com.au/event/half-price-parmi-night-3-3-2-3-6/
END:VEVENT
BEGIN:VEVENT
DTSTART;TZID=Australia/Brisbane:20190307T173000
DTEND;TZID=Australia/Brisbane:20190307T203000
DTSTAMP:20190228T182651
CREATED:20190208T044810Z
LAST-MODIFIED:20190208T044810Z
UID:6228-1551979800-1551990600@www.theclubparkwood.com.au
SUMMARY:Thursday Steak Night
DESCRIPTION:Thursday Nights is for the Carnivore in you.\nCome down on Thursday nights and enjoy a delicious\, mouth-watering Rump Steak cooked to perfection. Served with a side of crunchy chips and a salad all for only $14!! \nYou read that right\, only $14 for a steak\, chips and salad!!!\nWant to add a delicious sauce to smother your steak in? Choose from a wide range of sauces to add for only $2 each. \nBook your table now by calling 07 5563 3342 or online at \nBook Now \n
URL:https://www.theclubparkwood.com.au/event/thursday-steak-night-8-4-5/
END:VEVENT
BEGIN:VEVENT
DTSTART;TZID=Australia/Brisbane:20190308T173000
DTEND;TZID=Australia/Brisbane:20190308T203000
DTSTAMP:20190228T182651
CREATED:20190208T052045Z
LAST-MODIFIED:20190208T052045Z
UID:6248-1552066200-1552077000@www.theclubparkwood.com.au
SUMMARY:Family Fridays
DESCRIPTION:Start your weekend right with Kids Eat Free on a Friday night.\nJoin us for a family night out\, while you sit back and relax – enjoy any one of our amazing adult meals and get your kids meal absolutely FREE. \nWe also have live entertainment from 5pm and our Kids Village is open and supervised for only $5p/h per child. \nCall now to book your table 07 5563 3342 or follow the link \nBook Now \n
URL:https://www.theclubparkwood.com.au/event/family-fridays-5-4-4-3-4/
END:VEVENT
BEGIN:VEVENT
DTSTART;TZID=Australia/Brisbane:20190310T130000
DTEND;TZID=Australia/Brisbane:20190310T170000
DTSTAMP:20190228T182651
CREATED:20190114T034012Z
LAST-MODIFIED:20190114T034012Z
UID:6055-1552222800-1552237200@www.theclubparkwood.com.au
SUMMARY:Sunday Sounds
DESCRIPTION:Live Music every Sunday in Village Lane 1pm-5pm\nPerforming this week\, Chris Bent \n
URL:https://www.theclubparkwood.com.au/event/sunday-sounds-2/
END:VEVENT
BEGIN:VEVENT
DTSTART;TZID=Australia/Brisbane:20190311T173000
DTEND;TZID=Australia/Brisbane:20190311T203000
DTSTAMP:20190228T182651
CREATED:20190208T011429Z
LAST-MODIFIED:20190208T011429Z
UID:6179-1552325400-1552336200@www.theclubparkwood.com.au
SUMMARY:Parma'Cheddon Mondays
DESCRIPTION:Monday Nights its Parma’Cheddon\nDo you have what it takes to conquer the Giant Parmigiana? A whopping 500gm Parmigiana layered with thick Napoli sauce\, shredded ham and dripping with delicious cheese. Grilled to perfection then served atop a mountain of chips and with a side of salad. \nAll of this for only $19.90 on Monday nights!! Tackle it alone or share with a mate.\nBook your table in Village Lane Pizzeria\, Bar and Grill now. \nBook Now \n
URL:https://www.theclubparkwood.com.au/event/parmacheddon-mondays-2-9-4-7-2/
END:VEVENT
BEGIN:VEVENT
DTSTART;TZID=Australia/Brisbane:20190312T173000
DTEND;TZID=Australia/Brisbane:20190312T203000
DTSTAMP:20190228T182651
CREATED:20190208T035129Z
LAST-MODIFIED:20190208T035129Z
UID:6193-1552411800-1552422600@www.theclubparkwood.com.au
SUMMARY:Two for One Tuesdays
DESCRIPTION:Tuesday night is a Pizza lovers haven\nFrom 5:30 on a Tuesday night\, you can purchase any 1 of our delicious Wood Fire Pizzas and get another of equal or lesser value ABSOLUTELY FREE!!! \nChoose a favourite or try something new. There is something to tempt all tastebuds.\nBook your table in Village Lane Pizzeria\, Bar and Grill now. \nBook Now \n
URL:https://www.theclubparkwood.com.au/event/two-for-one-tuesdays-4-2-4-6-4/
END:VEVENT
BEGIN:VEVENT
DTSTART;TZID=Australia/Brisbane:20190313T173000
DTEND;TZID=Australia/Brisbane:20190313T203000
DTSTAMP:20190228T182651
CREATED:20190208T041355Z
LAST-MODIFIED:20190208T041355Z
UID:6215-1552498200-1552509000@www.theclubparkwood.com.au
SUMMARY:Half Price Parmi Night
DESCRIPTION:Wednesday’s its a Parmigiana lovers Haven\nEvery Wednesday night from 5:30pm\, join us at the Village Lane Pizzeria\, Bar & Grill and take your pick of our delicious variety of parmigiana options\, and pay 1/2 Price. \nTHAT’S RIGHT\, HALF PRICE!!!\nChoose from a Traditional Parmigiana\, or try one of our specialty varieties\, served with a side of chips and house salad. \nSpecialty Varieties include: \n\nHawaiian\nMacaroni & Cheese or\nAussie\n\nBook your table by calling 07 5563 3342 or online\nBook Now \n
URL:https://www.theclubparkwood.com.au/event/half-price-parmi-night-3-3-2-3-6-2/
END:VEVENT
BEGIN:VEVENT
DTSTART;TZID=Australia/Brisbane:20190314T173000
DTEND;TZID=Australia/Brisbane:20190314T203000
DTSTAMP:20190228T182651
CREATED:20190208T044918Z
LAST-MODIFIED:20190208T044918Z
UID:6225-1552584600-1552595400@www.theclubparkwood.com.au
SUMMARY:Thursday Steak Night
DESCRIPTION:Thursday Nights is for the Carnivore in you.\nCome down on Thursday nights and enjoy a delicious\, mouth-watering Rump Steak cooked to perfection. Served with a side of crunchy chips and a salad all for only $14!! \nYou read that right\, only $14 for a steak\, chips and salad!!!\nWant to add a delicious sauce to smother your steak in? Choose from a wide range of sauces to add for only $2 each. \nBook your table now by calling 07 5563 3342 or online at \nBook Now \n
URL:https://www.theclubparkwood.com.au/event/thursday-steak-night-8-4-6/
END:VEVENT
BEGIN:VEVENT
DTSTART;TZID=Australia/Brisbane:20190315T173000
DTEND;TZID=Australia/Brisbane:20190315T203000
DTSTAMP:20190228T182651
CREATED:20190208T052301Z
LAST-MODIFIED:20190208T052301Z
UID:6246-1552671000-1552681800@www.theclubparkwood.com.au
SUMMARY:Family Fridays
DESCRIPTION:Start your weekend right with Kids Eat Free on a Friday night.\nJoin us for a family night out\, while you sit back and relax – enjoy any one of our amazing adult meals and get your kids meal absolutely FREE. \nWe also have live entertainment from 5pm and our Kids Village is open and supervised for only $5p/h per child. \nCall now to book your table 07 5563 3342 or follow the link \nBook Now \n
URL:https://www.theclubparkwood.com.au/event/family-fridays-5-4-4-3-5/
END:VEVENT
BEGIN:VEVENT
DTSTART;TZID=Australia/Brisbane:20190317T130000
DTEND;TZID=Australia/Brisbane:20190317T170000
DTSTAMP:20190228T182651
CREATED:20190114T034451Z
LAST-MODIFIED:20190114T034451Z
UID:6061-1552827600-1552842000@www.theclubparkwood.com.au
SUMMARY:Sunday Sounds
DESCRIPTION:Live Music every Sunday in Village Lane 1pm-5pm\nPerforming this week\, Mike Hickey \n
URL:https://www.theclubparkwood.com.au/event/sunday-sounds-2-2/
END:VEVENT
BEGIN:VEVENT
DTSTART;TZID=Australia/Brisbane:20190318T173000
DTEND;TZID=Australia/Brisbane:20190318T203000
DTSTAMP:20190228T182651
CREATED:20190208T011513Z
LAST-MODIFIED:20190208T011513Z
UID:6180-1552930200-1552941000@www.theclubparkwood.com.au
SUMMARY:Parma'Cheddon Mondays
DESCRIPTION:Monday Nights its Parma’Cheddon\nDo you have what it takes to conquer the Giant Parmigiana? A whopping 500gm Parmigiana layered with thick Napoli sauce\, shredded ham and dripping with delicious cheese. Grilled to perfection then served atop a mountain of chips and with a side of salad. \nAll of this for only $19.90 on Monday nights!! Tackle it alone or share with a mate.\nBook your table in Village Lane Pizzeria\, Bar and Grill now. \nBook Now \n
URL:https://www.theclubparkwood.com.au/event/parmacheddon-mondays-2-9-4-7-3/
END:VEVENT
BEGIN:VEVENT
DTSTART;TZID=Australia/Brisbane:20190319T173000
DTEND;TZID=Australia/Brisbane:20190319T203000
DTSTAMP:20190228T182651
CREATED:20190208T035216Z
LAST-MODIFIED:20190208T035309Z
UID:6194-1553016600-1553027400@www.theclubparkwood.com.au
SUMMARY:Two for One Tuesdays
DESCRIPTION:Tuesday night is a Pizza lovers haven\nFrom 5:30 on a Tuesday night\, you can purchase any 1 of our delicious Wood Fire Pizzas and get another of equal or lesser value ABSOLUTELY FREE!!! \nChoose a favourite or try something new. There is something to tempt all tastebuds.\nBook your table in Village Lane Pizzeria\, Bar and Grill now. \nBook Now \n
URL:https://www.theclubparkwood.com.au/event/two-for-one-tuesdays-4-2-4-6-5/
END:VEVENT
BEGIN:VEVENT
DTSTART;TZID=Australia/Brisbane:20190320T173000
DTEND;TZID=Australia/Brisbane:20190320T203000
DTSTAMP:20190228T182651
CREATED:20190208T041504Z
LAST-MODIFIED:20190208T041504Z
UID:6218-1553103000-1553113800@www.theclubparkwood.com.au
SUMMARY:Half Price Parmi Night
DESCRIPTION:Wednesday’s its a Parmigiana lovers Haven\nEvery Wednesday night from 5:30pm\, join us at the Village Lane Pizzeria\, Bar & Grill and take your pick of our delicious variety of parmigiana options\, and pay 1/2 Price. \nTHAT’S RIGHT\, HALF PRICE!!!\nChoose from a Traditional Parmigiana\, or try one of our specialty varieties\, served with a side of chips and house salad. \nSpecialty Varieties include: \n\nHawaiian\nMacaroni & Cheese or\nAussie\n\nBook your table by calling 07 5563 3342 or online\nBook Now \n
URL:https://www.theclubparkwood.com.au/event/half-price-parmi-night-3-3-2-3-6-3/
END:VEVENT
BEGIN:VEVENT
DTSTART;TZID=Australia/Brisbane:20190321T173000
DTEND;TZID=Australia/Brisbane:20190321T203000
DTSTAMP:20190228T182651
CREATED:20190208T045110Z
LAST-MODIFIED:20190208T045110Z
UID:6226-1553189400-1553200200@www.theclubparkwood.com.au
SUMMARY:Thursday Steak Night
DESCRIPTION:Thursday Nights is for the Carnivore in you.\nCome down on Thursday nights and enjoy a delicious\, mouth-watering Rump Steak cooked to perfection. Served with a side of crunchy chips and a salad all for only $14!! \nYou read that right\, only $14 for a steak\, chips and salad!!!\nWant to add a delicious sauce to smother your steak in? Choose from a wide range of sauces to add for only $2 each. \nBook your table now by calling 07 5563 3342 or online at \nBook Now \n
URL:https://www.theclubparkwood.com.au/event/thursday-steak-night-8-4-7/
END:VEVENT
BEGIN:VEVENT
DTSTART;TZID=Australia/Brisbane:20190322T173000
DTEND;TZID=Australia/Brisbane:20190322T203000
DTSTAMP:20190228T182651
CREATED:20190208T052347Z
LAST-MODIFIED:20190208T052347Z
UID:6245-1553275800-1553286600@www.theclubparkwood.com.au
SUMMARY:Family Fridays
DESCRIPTION:Start your weekend right with Kids Eat Free on a Friday night.\nJoin us for a family night out\, while you sit back and relax – enjoy any one of our amazing adult meals and get your kids meal absolutely FREE. \nWe also have live entertainment from 5pm and our Kids Village is open and supervised for only $5p/h per child. \nCall now to book your table 07 5563 3342 or follow the link \nBook Now \n
URL:https://www.theclubparkwood.com.au/event/family-fridays-5-4-4-3-6/
END:VEVENT
BEGIN:VEVENT
DTSTART;TZID=Australia/Brisbane:20190324T130000
DTEND;TZID=Australia/Brisbane:20190324T170000
DTSTAMP:20190228T182651
CREATED:20190114T034751Z
LAST-MODIFIED:20190114T034751Z
UID:6062-1553432400-1553446800@www.theclubparkwood.com.au
SUMMARY:Sunday Sounds
DESCRIPTION:Live Music every Sunday in Village Lane 1pm-5pm\nPerforming this week\, Kris Wason \n
URL:https://www.theclubparkwood.com.au/event/sunday-sounds-2-3/
END:VEVENT
BEGIN:VEVENT
DTSTART;TZID=Australia/Brisbane:20190325T173000
DTEND;TZID=Australia/Brisbane:20190325T203000
DTSTAMP:20190228T182651
CREATED:20190208T011943Z
LAST-MODIFIED:20190208T011943Z
UID:6183-1553535000-1553545800@www.theclubparkwood.com.au
SUMMARY:Parma'Cheddon Mondays
DESCRIPTION:Monday Nights its Parma’Cheddon\nDo you have what it takes to conquer the Giant Parmigiana? A whopping 500gm Parmigiana layered with thick Napoli sauce\, shredded ham and dripping with delicious cheese. Grilled to perfection then served atop a mountain of chips and with a side of salad. \nAll of this for only $19.90 on Monday nights!! Tackle it alone or share with a mate.\nBook your table in Village Lane Pizzeria\, Bar and Grill now. \nBook Now \n
URL:https://www.theclubparkwood.com.au/event/parmacheddon-mondays-2-9-4-7-4/
END:VEVENT
BEGIN:VEVENT
DTSTART;TZID=Australia/Brisbane:20190326T173000
DTEND;TZID=Australia/Brisbane:20190326T203000
DTSTAMP:20190228T182651
CREATED:20190208T035438Z
LAST-MODIFIED:20190208T035438Z
UID:6191-1553621400-1553632200@www.theclubparkwood.com.au
SUMMARY:Two for One Tuesdays
DESCRIPTION:Tuesday night is a Pizza lovers haven\nFrom 5:30 on a Tuesday night\, you can purchase any 1 of our delicious Wood Fire Pizzas and get another of equal or lesser value ABSOLUTELY FREE!!! \nChoose a favourite or try something new. There is something to tempt all tastebuds.\nBook your table in Village Lane Pizzeria\, Bar and Grill now. \nBook Now \n
URL:https://www.theclubparkwood.com.au/event/two-for-one-tuesdays-4-2-4-6-6/
END:VEVENT
BEGIN:VEVENT
DTSTART;TZID=Australia/Brisbane:20190327T173000
DTEND;TZID=Australia/Brisbane:20190327T203000
DTSTAMP:20190228T182651
CREATED:20190208T041556Z
LAST-MODIFIED:20190208T041556Z
UID:6219-1553707800-1553718600@www.theclubparkwood.com.au
SUMMARY:Half Price Parmi Night
DESCRIPTION:Wednesday’s its a Parmigiana lovers Haven\nEvery Wednesday night from 5:30pm\, join us at the Village Lane Pizzeria\, Bar & Grill and take your pick of our delicious variety of parmigiana options\, and pay 1/2 Price. \nTHAT’S RIGHT\, HALF PRICE!!!\nChoose from a Traditional Parmigiana\, or try one of our specialty varieties\, served with a side of chips and house salad. \nSpecialty Varieties include: \n\nHawaiian\nMacaroni & Cheese or\nAussie\n\nBook your table by calling 07 5563 3342 or online\nBook Now \n
URL:https://www.theclubparkwood.com.au/event/half-price-parmi-night-3-3-2-3-6-4/
END:VEVENT
BEGIN:VEVENT
DTSTART;TZID=Australia/Brisbane:20190328T150000
DTEND;TZID=Australia/Brisbane:20190328T180000
DTSTAMP:20190228T182651
CREATED:20190215T053945Z
LAST-MODIFIED:20190215T053945Z
UID:6273-1553785200-1553796000@www.theclubparkwood.com.au
SUMMARY:TaylorMade  M5/M6 Fitting Day
DESCRIPTION:We are holding our first TaylorMade fitting day for 2019.\nMake a booking today with the team in the Golf Shop\, for a personal fitting with one of TaylorMade’s Master Fitters.\n30 minute appointment times available from 3pm till 6pm. \nCall 07 5563 3342 extension 1 or Email golfoperations@parkwoodgc.com.au\n
URL:https://www.theclubparkwood.com.au/event/taylormade-m5-m6-fitting-day/
ATTACH;FMTTYPE=image/jpeg:https://www.theclubparkwood.com.au/wp-content/uploads/2019/02/FittingDay_Insta.jpg
END:VEVENT
BEGIN:VEVENT
DTSTART;TZID=Australia/Brisbane:20190328T173000
DTEND;TZID=Australia/Brisbane:20190328T203000
DTSTAMP:20190228T182651
CREATED:20190208T045439Z
LAST-MODIFIED:20190208T045439Z
UID:6238-1553794200-1553805000@www.theclubparkwood.com.au
SUMMARY:Thursday Steak Night
DESCRIPTION:Thursday Nights is for the Carnivore in you.\nCome down on Thursday nights and enjoy a delicious\, mouth-watering Rump Steak cooked to perfection. Served with a side of crunchy chips and a salad all for only $14!! \nYou read that right\, only $14 for a steak\, chips and salad!!!\nWant to add a delicious sauce to smother your steak in? Choose from a wide range of sauces to add for only $2 each. \nBook your table now by calling 07 5563 3342 or online at \nBook Now \n
URL:https://www.theclubparkwood.com.au/event/thursday-steak-night-8-4-9/
END:VEVENT
BEGIN:VEVENT
DTSTART;TZID=Australia/Brisbane:20190329T173000
DTEND;TZID=Australia/Brisbane:20190329T203000
DTSTAMP:20190228T182651
CREATED:20190208T052430Z
LAST-MODIFIED:20190208T052430Z
UID:6244-1553880600-1553891400@www.theclubparkwood.com.au
SUMMARY:Family Fridays
DESCRIPTION:Start your weekend right with Kids Eat Free on a Friday night.\nJoin us for a family night out\, while you sit back and relax – enjoy any one of our amazing adult meals and get your kids meal absolutely FREE. \nWe also have live entertainment from 5pm and our Kids Village is open and supervised for only $5p/h per child. \nCall now to book your table 07 5563 3342 or follow the link \nBook Now \n
URL:https://www.theclubparkwood.com.au/event/family-fridays-5-4-4-3-7/
END:VEVENT
END:VCALENDAR